BEGIN:VCALENDAR
VERSION:2.0
PRODID:-//Cuidado Casero Foundation - ECPv6.15.20//NONSGML v1.0//EN
CALSCALE:GREGORIAN
METHOD:PUBLISH
X-WR-CALNAME:Cuidado Casero Foundation
X-ORIGINAL-URL:https://cuidadocaserofoundation.org
X-WR-CALDESC:Events for Cuidado Casero Foundation
REFRESH-INTERVAL;VALUE=DURATION:PT1H
X-Robots-Tag:noindex
X-PUBLISHED-TTL:PT1H
BEGIN:VTIMEZONE
TZID:UTC
BEGIN:STANDARD
TZOFFSETFROM:+0000
TZOFFSETTO:+0000
TZNAME:UTC
DTSTART:20210101T000000
END:STANDARD
END:VTIMEZONE
BEGIN:VEVENT
DTSTART;TZID=UTC:20220625T063000
DTEND;TZID=UTC:20220625T233000
DTSTAMP:20260421T180319
CREATED:20220224T032305Z
LAST-MODIFIED:20220516T072951Z
UID:2173-1656138600-1656199800@cuidadocaserofoundation.org
SUMMARY:2022 " A Night of Nightingale" Scholarship Awards and Fundraiser Gala
DESCRIPTION:The 3rd annual Scholarship Awards & Fundraiser Gala will be on June 25th\, 2022 at the TCC – Trinity Rivera Campus. We will have an open bar\, live auction\, live music\, delicious food\, and of course our scholarship awards. This event directly benefits the CCF Scholarship Nursing Fund. Get your tickets today! \nPURCHASE TICKETS
URL:https://cuidadocaserofoundation.org/event/2022-scholarship-awards-and-fundraiser-gala/
LOCATION:Tarrant County College – Trinity River Campus\, 300 Trinity Campus Circle\, Fort Worth\, 76102\, United States
CATEGORIES:Event,Fundraiser
ATTACH;FMTTYPE=image/jpeg:https://cuidadocaserofoundation.org/wp-content/uploads/2022/02/ccf-gala-2022-thumbnail.jpg
ORGANIZER;CN="Doris Martinez":MAILTO:doris@ccfoundation.us
END:VEVENT
END:VCALENDAR